BEGIN:VCALENDAR
VERSION:2.0
PRODID:-//Certes Szkolenia - ECPv6.9.1//NONSGML v1.0//EN
CALSCALE:GREGORIAN
METHOD:PUBLISH
X-ORIGINAL-URL:https://szkolenia.certes.pl
X-WR-CALDESC:Events for Certes Szkolenia
REFRESH-INTERVAL;VALUE=DURATION:PT1H
X-Robots-Tag:noindex
X-PUBLISHED-TTL:PT1H
BEGIN:VTIMEZONE
TZID:Europe/Paris
BEGIN:DAYLIGHT
TZOFFSETFROM:+0100
TZOFFSETTO:+0200
TZNAME:CEST
DTSTART:20250330T010000
END:DAYLIGHT
BEGIN:STANDARD
TZOFFSETFROM:+0200
TZOFFSETTO:+0100
TZNAME:CET
DTSTART:20251026T010000
END:STANDARD
TZID:UTC
BEGIN:STANDARD
TZOFFSETFROM:+0000
TZOFFSETTO:+0000
TZNAME:UTC
DTSTART:20250101T000000
END:STANDARD
END:VTIMEZONE
BEGIN:VEVENT
DTSTART;VALUE=DATE:20251117
DTEND;VALUE=DATE:20251206
DTSTAMP:20260422T135108
CREATED:20250724T130748Z
LAST-MODIFIED:20250724T131438Z
UID:10000782-1763337600-1764979199@szkolenia.certes.pl
SUMMARY:Koordynator ds. dostępności – strategiczna wartość w biznesie
DESCRIPTION:
URL:https://szkolenia.certes.pl/event/koordynator-ds-dostepnosci-strategiczna-wartosc-w-biznesie/
ORGANIZER;CN="Certes Sp. z o.o.":MAILTO:szkolenia.otwarte@certes.pl
END:VEVENT
BEGIN:VEVENT
DTSTART;VALUE=DATE:20251201
DTEND;VALUE=DATE:20251220
DTSTAMP:20260422T135108
CREATED:20250724T131026Z
LAST-MODIFIED:20250724T131457Z
UID:10000783-1764547200-1766188799@szkolenia.certes.pl
SUMMARY:Koordynator ds. dostępności – specjalista ds. audytu
DESCRIPTION:
URL:https://szkolenia.certes.pl/event/koordynator-ds-dostepnosci-specjalista-ds-audytu-2/
ORGANIZER;CN="Certes Sp. z o.o.":MAILTO:szkolenia.otwarte@certes.pl
END:VEVENT
BEGIN:VEVENT
DTSTART;VALUE=DATE:20251204
DTEND;VALUE=DATE:20251206
DTSTAMP:20260422T135108
CREATED:20250116T094241Z
LAST-MODIFIED:20251003T132350Z
UID:10000558-1764806400-1764979199@szkolenia.certes.pl
SUMMARY:Sztuka profesjonalnej obsługi klienta z niepełnosprawnością
DESCRIPTION:
URL:https://szkolenia.certes.pl/event/sztuka-profesjonalnej-obslugi-klienta-z-niepelnosprawnoscia/
ORGANIZER;CN="Certes Sp. z o.o.":MAILTO:szkolenia.otwarte@certes.pl
END:VEVENT
BEGIN:VEVENT
DTSTART;VALUE=DATE:20251204
DTEND;VALUE=DATE:20251206
DTSTAMP:20260422T135108
CREATED:20250321T110320Z
LAST-MODIFIED:20251003T133131Z
UID:10000624-1764806400-1764979199@szkolenia.certes.pl
SUMMARY:Train the Trainer – Poziom Premium
DESCRIPTION:
URL:https://szkolenia.certes.pl/event/train-the-trainer-poziom-premium-2/
ORGANIZER;CN="Certes Sp. z o.o.":MAILTO:szkolenia.otwarte@certes.pl
END:VEVENT
BEGIN:VEVENT
DTSTART;VALUE=DATE:20251204
DTEND;VALUE=DATE:20251206
DTSTAMP:20260422T135108
CREATED:20250321T110855Z
LAST-MODIFIED:20251003T133122Z
UID:10000625-1764806400-1764979199@szkolenia.certes.pl
SUMMARY:Train the Trainer – Poziom Premium PLUS
DESCRIPTION:
URL:https://szkolenia.certes.pl/event/train-the-trainer-poziom-premium-plus-2/
ORGANIZER;CN="Certes Sp. z o.o.":MAILTO:szkolenia.otwarte@certes.pl
END:VEVENT
BEGIN:VEVENT
DTSTART;VALUE=DATE:20251204
DTEND;VALUE=DATE:20251206
DTSTAMP:20260422T135108
CREATED:20250519T074426Z
LAST-MODIFIED:20250922T102223Z
UID:10000653-1764806400-1764979199@szkolenia.certes.pl
SUMMARY:Komunikacja menedżerska
DESCRIPTION:
URL:https://szkolenia.certes.pl/event/komunikacja-menedzerska/
ORGANIZER;CN="Certes Sp. z o.o.":MAILTO:szkolenia.otwarte@certes.pl
END:VEVENT
BEGIN:VEVENT
DTSTART;VALUE=DATE:20251204
DTEND;VALUE=DATE:20251206
DTSTAMP:20260422T135108
CREATED:20250612T071238Z
LAST-MODIFIED:20250922T103721Z
UID:10000691-1764806400-1764979199@szkolenia.certes.pl
SUMMARY:Motywowanie i budowanie zaangażowania
DESCRIPTION:
URL:https://szkolenia.certes.pl/event/motywowanie-i-budowanie-zaangazowania-5/
ORGANIZER;CN="Certes Sp. z o.o.":MAILTO:szkolenia.otwarte@certes.pl
END:VEVENT
BEGIN:VEVENT
DTSTART;VALUE=DATE:20251204
DTEND;VALUE=DATE:20251206
DTSTAMP:20260422T135108
CREATED:20250618T082239Z
LAST-MODIFIED:20250827T115748Z
UID:10000740-1764806400-1764979199@szkolenia.certes.pl
SUMMARY:Sztuka prezentacji i wystąpień publicznych
DESCRIPTION:
URL:https://szkolenia.certes.pl/event/sztuka-prezentacji-i-wystapien-publicznych/
ORGANIZER;CN="Certes Sp. z o.o.":MAILTO:szkolenia.otwarte@certes.pl
END:VEVENT
BEGIN:VEVENT
DTSTART;VALUE=DATE:20251204
DTEND;VALUE=DATE:20251206
DTSTAMP:20260422T135108
CREATED:20250819T070442Z
LAST-MODIFIED:20250819T070442Z
UID:10000794-1764806400-1764979199@szkolenia.certes.pl
SUMMARY:Sprzedaż\, która angażuje – storytelling jako przewaga konkurencyjna
DESCRIPTION:
URL:https://szkolenia.certes.pl/event/sprzedaz-ktora-angazuje-storytelling-jako-przewaga-konkurencyjna-4/
ORGANIZER;CN="Certes Sp. z o.o.":MAILTO:szkolenia.otwarte@certes.pl
END:VEVENT
BEGIN:VEVENT
DTSTART;VALUE=DATE:20251204
DTEND;VALUE=DATE:20251206
DTSTAMP:20260422T135108
CREATED:20250926T130445Z
LAST-MODIFIED:20250926T130445Z
UID:10000825-1764806400-1764979199@szkolenia.certes.pl
SUMMARY:Trening osobistej skuteczności
DESCRIPTION:
URL:https://szkolenia.certes.pl/event/trening-osobistej-skutecznosci-4/
ORGANIZER;CN="Certes Sp. z o.o.":MAILTO:szkolenia.otwarte@certes.pl
END:VEVENT
END:VCALENDAR