BEGIN:VCALENDAR
VERSION:2.0
PRODID:-//Certes Szkolenia - ECPv6.9.1//NONSGML v1.0//EN
CALSCALE:GREGORIAN
METHOD:PUBLISH
X-ORIGINAL-URL:https://szkolenia.certes.pl
X-WR-CALDESC:Events for Certes Szkolenia
REFRESH-INTERVAL;VALUE=DURATION:PT1H
X-Robots-Tag:noindex
X-PUBLISHED-TTL:PT1H
BEGIN:VTIMEZONE
TZID:Europe/Paris
BEGIN:DAYLIGHT
TZOFFSETFROM:+0100
TZOFFSETTO:+0200
TZNAME:CEST
DTSTART:20250330T010000
END:DAYLIGHT
BEGIN:STANDARD
TZOFFSETFROM:+0200
TZOFFSETTO:+0100
TZNAME:CET
DTSTART:20251026T010000
END:STANDARD
TZID:UTC
BEGIN:STANDARD
TZOFFSETFROM:+0000
TZOFFSETTO:+0000
TZNAME:UTC
DTSTART:20250101T000000
END:STANDARD
END:VTIMEZONE
BEGIN:VEVENT
DTSTART;VALUE=DATE:20251117
DTEND;VALUE=DATE:20251206
DTSTAMP:20260422T135051
CREATED:20250724T130748Z
LAST-MODIFIED:20250724T131438Z
UID:10000782-1763337600-1764979199@szkolenia.certes.pl
SUMMARY:Koordynator ds. dostępności – strategiczna wartość w biznesie
DESCRIPTION:
URL:https://szkolenia.certes.pl/event/koordynator-ds-dostepnosci-strategiczna-wartosc-w-biznesie/
ORGANIZER;CN="Certes Sp. z o.o.":MAILTO:szkolenia.otwarte@certes.pl
END:VEVENT
BEGIN:VEVENT
DTSTART;VALUE=DATE:20251201
DTEND;VALUE=DATE:20251203
DTSTAMP:20260422T135051
CREATED:20241206T133102Z
LAST-MODIFIED:20250618T072301Z
UID:10000423-1764547200-1764719999@szkolenia.certes.pl
SUMMARY:Out of the box – innowacyjne podejścia i metody twórczego myślenia
DESCRIPTION:
URL:https://szkolenia.certes.pl/event/out-of-the-box-innowacyjne-podejscia-i-metody-tworczego-myslenia-5/
ORGANIZER;CN="Certes Sp. z o.o.":MAILTO:szkolenia.otwarte@certes.pl
END:VEVENT
BEGIN:VEVENT
DTSTART;VALUE=DATE:20251201
DTEND;VALUE=DATE:20251203
DTSTAMP:20260422T135051
CREATED:20241209T100418Z
LAST-MODIFIED:20250618T064208Z
UID:10000436-1764547200-1764719999@szkolenia.certes.pl
SUMMARY:Asertywność
DESCRIPTION:
URL:https://szkolenia.certes.pl/event/asertywnosc/
ORGANIZER;CN="Certes Sp. z o.o.":MAILTO:szkolenia.otwarte@certes.pl
END:VEVENT
BEGIN:VEVENT
DTSTART;VALUE=DATE:20251201
DTEND;VALUE=DATE:20251203
DTSTAMP:20260422T135051
CREATED:20250110T132729Z
LAST-MODIFIED:20250618T074531Z
UID:10000496-1764547200-1764719999@szkolenia.certes.pl
SUMMARY:Skuteczna komunikacja – zwięzłość i klarowność w mowie i piśmie
DESCRIPTION:
URL:https://szkolenia.certes.pl/event/skuteczna-komunikacja-zwiezlosc-i-klarownosc-w-mowie-i-pismie-2/
ORGANIZER;CN="Certes Sp. z o.o.":MAILTO:szkolenia.otwarte@certes.pl
END:VEVENT
BEGIN:VEVENT
DTSTART;VALUE=DATE:20251201
DTEND;VALUE=DATE:20251203
DTSTAMP:20260422T135051
CREATED:20250110T133005Z
LAST-MODIFIED:20250623T081414Z
UID:10000499-1764547200-1764719999@szkolenia.certes.pl
SUMMARY:Zarządzanie stresem
DESCRIPTION:
URL:https://szkolenia.certes.pl/event/zarzadzanie-stresem-4/
ORGANIZER;CN="Certes Sp. z o.o.":MAILTO:szkolenia.otwarte@certes.pl
END:VEVENT
BEGIN:VEVENT
DTSTART;VALUE=DATE:20251201
DTEND;VALUE=DATE:20251203
DTSTAMP:20260422T135051
CREATED:20250519T084237Z
LAST-MODIFIED:20250519T084237Z
UID:10000658-1764547200-1764719999@szkolenia.certes.pl
SUMMARY:Profesjonalna obsługa Klienta wewnętrznego
DESCRIPTION:
URL:https://szkolenia.certes.pl/event/profesjonalna-obsluga-klienta-wewnetrznego-7/
ORGANIZER;CN="Certes Sp. z o.o.":MAILTO:szkolenia.otwarte@certes.pl
END:VEVENT
BEGIN:VEVENT
DTSTART;VALUE=DATE:20251201
DTEND;VALUE=DATE:20251203
DTSTAMP:20260422T135051
CREATED:20250618T064602Z
LAST-MODIFIED:20250618T064602Z
UID:10000725-1764547200-1764719999@szkolenia.certes.pl
SUMMARY:Efektywna obsługa trudnego klienta i radzenia sobie w sytuacjach kryzysowych
DESCRIPTION:
URL:https://szkolenia.certes.pl/event/efektywna-obsluga-trudnego-klienta-i-radzenia-sobie-w-sytuacjach-kryzysowych-5/
ORGANIZER;CN="Certes Sp. z o.o.":MAILTO:szkolenia.otwarte@certes.pl
END:VEVENT
BEGIN:VEVENT
DTSTART;VALUE=DATE:20251201
DTEND;VALUE=DATE:20251203
DTSTAMP:20260422T135051
CREATED:20250618T073346Z
LAST-MODIFIED:20250618T073346Z
UID:10000733-1764547200-1764719999@szkolenia.certes.pl
SUMMARY:Profesjonalny Office Manager
DESCRIPTION:
URL:https://szkolenia.certes.pl/event/profesjonalny-office-manager-3/
ORGANIZER;CN="Certes Sp. z o.o.":MAILTO:szkolenia.otwarte@certes.pl
END:VEVENT
BEGIN:VEVENT
DTSTART;VALUE=DATE:20251201
DTEND;VALUE=DATE:20251203
DTSTAMP:20260422T135051
CREATED:20250623T080705Z
LAST-MODIFIED:20250623T080705Z
UID:10000748-1764547200-1764719999@szkolenia.certes.pl
SUMMARY:Zarządzanie czasem
DESCRIPTION:
URL:https://szkolenia.certes.pl/event/zarzadzanie-czasem-4/
ORGANIZER;CN="Certes Sp. z o.o.":MAILTO:szkolenia.otwarte@certes.pl
END:VEVENT
BEGIN:VEVENT
DTSTART;VALUE=DATE:20251201
DTEND;VALUE=DATE:20251203
DTSTAMP:20260422T135051
CREATED:20250623T082232Z
LAST-MODIFIED:20250623T082232Z
UID:10000752-1764547200-1764719999@szkolenia.certes.pl
SUMMARY:Zarządzanie wiekiem i współpracą międzypokoleniową
DESCRIPTION:
URL:https://szkolenia.certes.pl/event/zarzadzanie-wiekiem-i-wspolpraca-miedzypokoleniowa-4/
ORGANIZER;CN="Certes Sp. z o.o.":MAILTO:szkolenia.otwarte@certes.pl
END:VEVENT
BEGIN:VEVENT
DTSTART;VALUE=DATE:20251201
DTEND;VALUE=DATE:20251203
DTSTAMP:20260422T135051
CREATED:20250818T120946Z
LAST-MODIFIED:20250818T120946Z
UID:10000785-1764547200-1764719999@szkolenia.certes.pl
SUMMARY:Copilot 365 – wykorzystanie AI w praktyce
DESCRIPTION:
URL:https://szkolenia.certes.pl/event/copilot-365-wykorzystanie-ai-w-praktyce-3/
ORGANIZER;CN="Certes Sp. z o.o.":MAILTO:szkolenia.otwarte@certes.pl
END:VEVENT
BEGIN:VEVENT
DTSTART;VALUE=DATE:20251201
DTEND;VALUE=DATE:20251203
DTSTAMP:20260422T135051
CREATED:20250818T131457Z
LAST-MODIFIED:20250818T131506Z
UID:10000789-1764547200-1764719999@szkolenia.certes.pl
SUMMARY:Różnorodność w sprzedaży – pokolenia i osobowości
DESCRIPTION:
URL:https://szkolenia.certes.pl/event/roznorodnosc-w-sprzedazy-pokolenia-i-osobowosci-2/
ORGANIZER;CN="Certes Sp. z o.o.":MAILTO:szkolenia.otwarte@certes.pl
END:VEVENT
BEGIN:VEVENT
DTSTART;VALUE=DATE:20251201
DTEND;VALUE=DATE:20251220
DTSTAMP:20260422T135051
CREATED:20250724T131026Z
LAST-MODIFIED:20250724T131457Z
UID:10000783-1764547200-1766188799@szkolenia.certes.pl
SUMMARY:Koordynator ds. dostępności – specjalista ds. audytu
DESCRIPTION:
URL:https://szkolenia.certes.pl/event/koordynator-ds-dostepnosci-specjalista-ds-audytu-2/
ORGANIZER;CN="Certes Sp. z o.o.":MAILTO:szkolenia.otwarte@certes.pl
END:VEVENT
BEGIN:VEVENT
DTSTART;VALUE=DATE:20251202
DTEND;VALUE=DATE:20251204
DTSTAMP:20260422T135051
CREATED:20230117T081006Z
LAST-MODIFIED:20250926T130905Z
UID:10000080-1764633600-1764806399@szkolenia.certes.pl
SUMMARY:Trening uważności – mindfulness at work
DESCRIPTION:
URL:https://szkolenia.certes.pl/event/trening-uwaznosci-mindfulness-at-work-3/
ORGANIZER;CN="Certes Sp. z o.o.":MAILTO:szkolenia.otwarte@certes.pl
END:VEVENT
BEGIN:VEVENT
DTSTART;VALUE=DATE:20251202
DTEND;VALUE=DATE:20251204
DTSTAMP:20260422T135051
CREATED:20250110T151203Z
LAST-MODIFIED:20250926T131208Z
UID:10000526-1764633600-1764806399@szkolenia.certes.pl
SUMMARY:Trudne sytuacje menedżerskie
DESCRIPTION:
URL:https://szkolenia.certes.pl/event/trudne-sytuacje-menedzerskie-2/
ORGANIZER;CN="Certes Sp. z o.o.":MAILTO:szkolenia.otwarte@certes.pl
END:VEVENT
BEGIN:VEVENT
DTSTART;VALUE=DATE:20251202
DTEND;VALUE=DATE:20251204
DTSTAMP:20260422T135051
CREATED:20250623T081137Z
LAST-MODIFIED:20250926T132926Z
UID:10000750-1764633600-1764806399@szkolenia.certes.pl
SUMMARY:Zarządzanie pracą zdalną i hybrydową
DESCRIPTION:
URL:https://szkolenia.certes.pl/event/zarzadzanie-praca-zdalna-i-hybrydowa-4/
ORGANIZER;CN="Certes Sp. z o.o.":MAILTO:szkolenia.otwarte@certes.pl
END:VEVENT
BEGIN:VEVENT
DTSTART;VALUE=DATE:20251202
DTEND;VALUE=DATE:20251204
DTSTAMP:20260422T135051
CREATED:20250827T115338Z
LAST-MODIFIED:20250827T115338Z
UID:10000814-1764633600-1764806399@szkolenia.certes.pl
SUMMARY:MS WORD
DESCRIPTION:
URL:https://szkolenia.certes.pl/event/ms-word-2/
ORGANIZER;CN="Certes Sp. z o.o.":MAILTO:szkolenia.otwarte@certes.pl
END:VEVENT
BEGIN:VEVENT
DTSTART;VALUE=DATE:20251202
DTEND;VALUE=DATE:20251204
DTSTAMP:20260422T135051
CREATED:20250827T115447Z
LAST-MODIFIED:20250827T115447Z
UID:10000815-1764633600-1764806399@szkolenia.certes.pl
SUMMARY:MS EXCEL
DESCRIPTION:
URL:https://szkolenia.certes.pl/event/ms-excel-3/
ORGANIZER;CN="Certes Sp. z o.o.":MAILTO:szkolenia.otwarte@certes.pl
END:VEVENT
BEGIN:VEVENT
DTSTART;VALUE=DATE:20251202
DTEND;VALUE=DATE:20251204
DTSTAMP:20260422T135051
CREATED:20250827T115613Z
LAST-MODIFIED:20250827T115613Z
UID:10000816-1764633600-1764806399@szkolenia.certes.pl
SUMMARY:Power BI Desktop – poziom podstawowy
DESCRIPTION:
URL:https://szkolenia.certes.pl/event/power-bi-desktop-poziom-podstawowy-2/
ORGANIZER;CN="Certes Sp. z o.o.":MAILTO:szkolenia.otwarte@certes.pl
END:VEVENT
BEGIN:VEVENT
DTSTART;VALUE=DATE:20251202
DTEND;VALUE=DATE:20251204
DTSTAMP:20260422T135051
CREATED:20250922T101811Z
LAST-MODIFIED:20250922T101811Z
UID:10000822-1764633600-1764806399@szkolenia.certes.pl
SUMMARY:Kompetencje przyszłości w pracy menedżera
DESCRIPTION:
URL:https://szkolenia.certes.pl/event/kompetencje-przyszlosci-w-pracy-menedzera-3/
ORGANIZER;CN="Certes Sp. z o.o.":MAILTO:szkolenia.otwarte@certes.pl
END:VEVENT
END:VCALENDAR