BEGIN:VCALENDAR
VERSION:2.0
PRODID:-//Certes Szkolenia - ECPv6.9.1//NONSGML v1.0//EN
CALSCALE:GREGORIAN
METHOD:PUBLISH
X-WR-CALNAME:Certes Szkolenia
X-ORIGINAL-URL:https://szkolenia.certes.pl
X-WR-CALDESC:Events for Certes Szkolenia
REFRESH-INTERVAL;VALUE=DURATION:PT1H
X-Robots-Tag:noindex
X-PUBLISHED-TTL:PT1H
BEGIN:VTIMEZONE
TZID:Europe/Paris
BEGIN:DAYLIGHT
TZOFFSETFROM:+0100
TZOFFSETTO:+0200
TZNAME:CEST
DTSTART:20250330T010000
END:DAYLIGHT
BEGIN:STANDARD
TZOFFSETFROM:+0200
TZOFFSETTO:+0100
TZNAME:CET
DTSTART:20251026T010000
END:STANDARD
TZID:UTC
BEGIN:STANDARD
TZOFFSETFROM:+0000
TZOFFSETTO:+0000
TZNAME:UTC
DTSTART:20250101T000000
END:STANDARD
END:VTIMEZONE
BEGIN:VEVENT
DTSTART;VALUE=DATE:20251103
DTEND;VALUE=DATE:20251105
DTSTAMP:20260424T213140
CREATED:20250110T151508Z
LAST-MODIFIED:20250701T135305Z
UID:10000529-1762128000-1762300799@szkolenia.certes.pl
SUMMARY:Ocena pracowników
DESCRIPTION:
URL:https://szkolenia.certes.pl/event/ocena-pracownikow-3/
ORGANIZER;CN="Certes Sp. z o.o.":MAILTO:szkolenia.otwarte@certes.pl
END:VEVENT
BEGIN:VEVENT
DTSTART;VALUE=DATE:20251103
DTEND;VALUE=DATE:20251105
DTSTAMP:20260424T213140
CREATED:20250115T135234Z
LAST-MODIFIED:20250626T132225Z
UID:10000536-1762128000-1762300799@szkolenia.certes.pl
SUMMARY:Efektywna komunikacja międzykulturowa w biznesie
DESCRIPTION:
URL:https://szkolenia.certes.pl/event/efektywna-komunikacja-miedzykulturowa-w-biznesie-2/
ORGANIZER;CN="Certes Sp. z o.o.":MAILTO:szkolenia.otwarte@certes.pl
END:VEVENT
BEGIN:VEVENT
DTSTART;VALUE=DATE:20251103
DTEND;VALUE=DATE:20251105
DTSTAMP:20260424T213140
CREATED:20250519T084226Z
LAST-MODIFIED:20250519T084226Z
UID:10000657-1762128000-1762300799@szkolenia.certes.pl
SUMMARY:Profesjonalna obsługa Klienta wewnętrznego
DESCRIPTION:
URL:https://szkolenia.certes.pl/event/profesjonalna-obsluga-klienta-wewnetrznego-6/
ORGANIZER;CN="Certes Sp. z o.o.":MAILTO:szkolenia.otwarte@certes.pl
END:VEVENT
BEGIN:VEVENT
DTSTART;VALUE=DATE:20251103
DTEND;VALUE=DATE:20251105
DTSTAMP:20260424T213140
CREATED:20250618T070734Z
LAST-MODIFIED:20250618T070734Z
UID:10000728-1762128000-1762300799@szkolenia.certes.pl
SUMMARY:Lider 4.0 – Kompetencje lidera przyszłości
DESCRIPTION:
URL:https://szkolenia.certes.pl/event/lider-4-0-kompetencje-lidera-przyszlosci-4/
ORGANIZER;CN="Certes Sp. z o.o.":MAILTO:szkolenia.otwarte@certes.pl
END:VEVENT
BEGIN:VEVENT
DTSTART;VALUE=DATE:20251103
DTEND;VALUE=DATE:20251105
DTSTAMP:20260424T213140
CREATED:20250618T072253Z
LAST-MODIFIED:20250618T072253Z
UID:10000731-1762128000-1762300799@szkolenia.certes.pl
SUMMARY:Out of the box – innowacyjne podejścia i metody twórczego myślenia
DESCRIPTION:
URL:https://szkolenia.certes.pl/event/out-of-the-box-innowacyjne-podejscia-i-metody-tworczego-myslenia-2/
ORGANIZER;CN="Certes Sp. z o.o.":MAILTO:szkolenia.otwarte@certes.pl
END:VEVENT
BEGIN:VEVENT
DTSTART;VALUE=DATE:20251103
DTEND;VALUE=DATE:20251105
DTSTAMP:20260424T213140
CREATED:20250618T072820Z
LAST-MODIFIED:20250618T072820Z
UID:10000732-1762128000-1762300799@szkolenia.certes.pl
SUMMARY:Pewność siebie w działaniu
DESCRIPTION:
URL:https://szkolenia.certes.pl/event/pewnosc-siebie-w-dzialaniu-4/
ORGANIZER;CN="Certes Sp. z o.o.":MAILTO:szkolenia.otwarte@certes.pl
END:VEVENT
BEGIN:VEVENT
DTSTART;VALUE=DATE:20251103
DTEND;VALUE=DATE:20251105
DTSTAMP:20260424T213140
CREATED:20250623T072106Z
LAST-MODIFIED:20250623T072106Z
UID:10000744-1762128000-1762300799@szkolenia.certes.pl
SUMMARY:Trening uważności – mindfulness at work
DESCRIPTION:
URL:https://szkolenia.certes.pl/event/trening-uwaznosci-mindfulness-at-work-2/
ORGANIZER;CN="Certes Sp. z o.o.":MAILTO:szkolenia.otwarte@certes.pl
END:VEVENT
BEGIN:VEVENT
DTSTART;VALUE=DATE:20251103
DTEND;VALUE=DATE:20251105
DTSTAMP:20260424T213140
CREATED:20250626T132606Z
LAST-MODIFIED:20250626T132606Z
UID:10000755-1762128000-1762300799@szkolenia.certes.pl
SUMMARY:Komunikacja i współpraca w zespole multigeneracyjnym
DESCRIPTION:
URL:https://szkolenia.certes.pl/event/komunikacja-i-wspolpraca-w-zespole-multigeneracyjnym-2/
ORGANIZER;CN="Certes Sp. z o.o.":MAILTO:szkolenia.otwarte@certes.pl
END:VEVENT
BEGIN:VEVENT
DTSTART;VALUE=DATE:20251103
DTEND;VALUE=DATE:20251105
DTSTAMP:20260424T213140
CREATED:20250626T134933Z
LAST-MODIFIED:20250626T134933Z
UID:10000762-1762128000-1762300799@szkolenia.certes.pl
SUMMARY:Zarządzanie zespołem różnorodnym
DESCRIPTION:
URL:https://szkolenia.certes.pl/event/zarzadzanie-zespolem-roznorodnym-5/
ORGANIZER;CN="Certes Sp. z o.o.":MAILTO:szkolenia.otwarte@certes.pl
END:VEVENT
BEGIN:VEVENT
DTSTART;VALUE=DATE:20251103
DTEND;VALUE=DATE:20251105
DTSTAMP:20260424T213140
CREATED:20250702T105312Z
LAST-MODIFIED:20250702T105312Z
UID:10000772-1762128000-1762300799@szkolenia.certes.pl
SUMMARY:Tożsamość lidera
DESCRIPTION:
URL:https://szkolenia.certes.pl/event/tozsamosc-lidera-5/
ORGANIZER;CN="Certes Sp. z o.o.":MAILTO:szkolenia.otwarte@certes.pl
END:VEVENT
BEGIN:VEVENT
DTSTART;VALUE=DATE:20251103
DTEND;VALUE=DATE:20251105
DTSTAMP:20260424T213140
CREATED:20250827T115116Z
LAST-MODIFIED:20250827T115116Z
UID:10000813-1762128000-1762300799@szkolenia.certes.pl
SUMMARY:Komunikacja inkluzywna – jak kształtować włączające środowisko pracy
DESCRIPTION:
URL:https://szkolenia.certes.pl/event/komunikacja-inkluzywna-jak-ksztaltowac-wlaczajace-srodowisko-pracy-5/
ORGANIZER;CN="Certes Sp. z o.o.":MAILTO:szkolenia.otwarte@certes.pl
END:VEVENT
END:VCALENDAR