BEGIN:VCALENDAR
VERSION:2.0
PRODID:-//Certes Szkolenia - ECPv6.9.1//NONSGML v1.0//EN
CALSCALE:GREGORIAN
METHOD:PUBLISH
X-ORIGINAL-URL:https://szkolenia.certes.pl
X-WR-CALDESC:Events for Certes Szkolenia
REFRESH-INTERVAL;VALUE=DURATION:PT1H
X-Robots-Tag:noindex
X-PUBLISHED-TTL:PT1H
BEGIN:VTIMEZONE
TZID:UTC
BEGIN:STANDARD
TZOFFSETFROM:+0000
TZOFFSETTO:+0000
TZNAME:UTC
DTSTART:20250101T000000
END:STANDARD
TZID:Europe/Paris
BEGIN:DAYLIGHT
TZOFFSETFROM:+0100
TZOFFSETTO:+0200
TZNAME:CEST
DTSTART:20250330T010000
END:DAYLIGHT
BEGIN:STANDARD
TZOFFSETFROM:+0200
TZOFFSETTO:+0100
TZNAME:CET
DTSTART:20251026T010000
END:STANDARD
END:VTIMEZONE
BEGIN:VEVENT
DTSTART;VALUE=DATE:20251008
DTEND;VALUE=DATE:20251010
DTSTAMP:20260420T180932
CREATED:20230116T090245Z
LAST-MODIFIED:20250616T131251Z
UID:10000059-1759881600-1760054399@szkolenia.certes.pl
SUMMARY:Zarządzanie łańcuchem dostaw
DESCRIPTION:
URL:https://szkolenia.certes.pl/event/zarzadzanie-lancuchem-dostaw-2/
ORGANIZER;CN="Certes Sp. z o.o.":MAILTO:szkolenia.otwarte@certes.pl
END:VEVENT
BEGIN:VEVENT
DTSTART;VALUE=DATE:20251008
DTEND;VALUE=DATE:20251010
DTSTAMP:20260420T180932
CREATED:20231115T134044Z
LAST-MODIFIED:20250616T121753Z
UID:10000168-1759881600-1760054399@szkolenia.certes.pl
SUMMARY:Nowoczesna gospodarka magazynowa
DESCRIPTION:
URL:https://szkolenia.certes.pl/event/nowoczesna-gospodarka-magazynowa-3/
ORGANIZER;CN="Certes Sp. z o.o.":MAILTO:szkolenia.otwarte@certes.pl
END:VEVENT
BEGIN:VEVENT
DTSTART;VALUE=DATE:20251008
DTEND;VALUE=DATE:20251010
DTSTAMP:20260420T180932
CREATED:20241231T100320Z
LAST-MODIFIED:20250616T131709Z
UID:10000476-1759881600-1760054399@szkolenia.certes.pl
SUMMARY:Zarządzanie projektami
DESCRIPTION:
URL:https://szkolenia.certes.pl/event/zarzadzanie-projektami-2/
ORGANIZER;CN="Certes Sp. z o.o.":MAILTO:szkolenia.otwarte@certes.pl
END:VEVENT
BEGIN:VEVENT
DTSTART;VALUE=DATE:20251008
DTEND;VALUE=DATE:20251010
DTSTAMP:20260420T180932
CREATED:20241231T102025Z
LAST-MODIFIED:20250922T103352Z
UID:10000484-1759881600-1760054399@szkolenia.certes.pl
SUMMARY:Mix metodyk zarządzania projektami
DESCRIPTION:
URL:https://szkolenia.certes.pl/event/mix-metodyk-zarzadzania-projektami/
ORGANIZER;CN="Certes Sp. z o.o.":MAILTO:szkolenia.otwarte@certes.pl
END:VEVENT
BEGIN:VEVENT
DTSTART;VALUE=DATE:20251008
DTEND;VALUE=DATE:20251010
DTSTAMP:20260420T180932
CREATED:20250527T083122Z
LAST-MODIFIED:20250923T112012Z
UID:10000669-1759881600-1760054399@szkolenia.certes.pl
SUMMARY:Poprawność załadunku w branży logistycznej
DESCRIPTION:
URL:https://szkolenia.certes.pl/event/poprawnosc-zaladunku-w-branzy-logistycznej/
ORGANIZER;CN="Certes Sp. z o.o.":MAILTO:szkolenia.otwarte@certes.pl
END:VEVENT
BEGIN:VEVENT
DTSTART;VALUE=DATE:20251008
DTEND;VALUE=DATE:20251010
DTSTAMP:20260420T180932
CREATED:20250616T093206Z
LAST-MODIFIED:20250616T093206Z
UID:10000692-1759881600-1760054399@szkolenia.certes.pl
SUMMARY:Agile – zwinne zarządzanie projektami
DESCRIPTION:
URL:https://szkolenia.certes.pl/event/agile-zwinne-zarzadzanie-projektami-2/
ORGANIZER;CN="Certes Sp. z o.o.":MAILTO:szkolenia.otwarte@certes.pl
END:VEVENT
BEGIN:VEVENT
DTSTART;VALUE=DATE:20251008
DTEND;VALUE=DATE:20251010
DTSTAMP:20260420T180932
CREATED:20250616T102846Z
LAST-MODIFIED:20250616T102846Z
UID:10000702-1759881600-1760054399@szkolenia.certes.pl
SUMMARY:Learning Agility – narzędzia i strategie dla nowoczesnych Liderów
DESCRIPTION:
URL:https://szkolenia.certes.pl/event/learning-agility-narzedzia-i-strategie-dla-nowoczesnych-liderow-2/
ORGANIZER;CN="Certes Sp. z o.o.":MAILTO:szkolenia.otwarte@certes.pl
END:VEVENT
BEGIN:VEVENT
DTSTART;VALUE=DATE:20251008
DTEND;VALUE=DATE:20251010
DTSTAMP:20260420T180932
CREATED:20250616T121949Z
LAST-MODIFIED:20250922T104347Z
UID:10000711-1759881600-1760054399@szkolenia.certes.pl
SUMMARY:Optymalne zarządzanie procesami – jak maksymalizować wartość i minimalizować ryzyko
DESCRIPTION:
URL:https://szkolenia.certes.pl/event/optymalne-zarzadzanie-procesami-jak-maksymalizowac-wartosc-i-minimalizowac-ryzyko/
ORGANIZER;CN="Certes Sp. z o.o.":MAILTO:szkolenia.otwarte@certes.pl
END:VEVENT
END:VCALENDAR